BEGIN:VCALENDAR
VERSION:2.0
PRODID:-//NICHI - ECPv6.15.17.1//NONSGML v1.0//EN
CALSCALE:GREGORIAN
METHOD:PUBLISH
X-WR-CALNAME:NICHI
X-ORIGINAL-URL:https://nichi.ca
X-WR-CALDESC:Events for NICHI
REFRESH-INTERVAL;VALUE=DURATION:PT1H
X-Robots-Tag:noindex
X-PUBLISHED-TTL:PT1H
BEGIN:VTIMEZONE
TZID:America/Toronto
BEGIN:DAYLIGHT
TZOFFSETFROM:-0500
TZOFFSETTO:-0400
TZNAME:EDT
DTSTART:20250309T070000
END:DAYLIGHT
BEGIN:STANDARD
TZOFFSETFROM:-0400
TZOFFSETTO:-0500
TZNAME:EST
DTSTART:20251102T060000
END:STANDARD
BEGIN:DAYLIGHT
TZOFFSETFROM:-0500
TZOFFSETTO:-0400
TZNAME:EDT
DTSTART:20260308T070000
END:DAYLIGHT
BEGIN:STANDARD
TZOFFSETFROM:-0400
TZOFFSETTO:-0500
TZNAME:EST
DTSTART:20261101T060000
END:STANDARD
BEGIN:DAYLIGHT
TZOFFSETFROM:-0500
TZOFFSETTO:-0400
TZNAME:EDT
DTSTART:20270314T070000
END:DAYLIGHT
BEGIN:STANDARD
TZOFFSETFROM:-0400
TZOFFSETTO:-0500
TZNAME:EST
DTSTART:20271107T060000
END:STANDARD
END:VTIMEZONE
BEGIN:VEVENT
DTSTART;VALUE=DATE:20260421
DTEND;VALUE=DATE:20260422
DTSTAMP:20260421T061544
CREATED:20260121T144201Z
LAST-MODIFIED:20260121T145050Z
UID:10000025-1776729600-1776815999@nichi.ca
SUMMARY:2026 FNCIAS Voice of our Nations Housing Conference
DESCRIPTION:Prairieland Park
URL:https://nichi.ca/event/2026-fncias-voice-of-our-nations-housing-conference/
CATEGORIES:Supporter Events
END:VEVENT
BEGIN:VEVENT
DTSTART;VALUE=DATE:20260421
DTEND;VALUE=DATE:20260422
DTSTAMP:20260421T061544
CREATED:20260309T200241Z
LAST-MODIFIED:20260309T200241Z
UID:10000035-1776729600-1776815999@nichi.ca
SUMMARY:2026 FNCIAS Voice of our Nations Housing Conference
DESCRIPTION:
URL:https://nichi.ca/event/2026-fncias-voice-of-our-nations-housing-conference-2/
CATEGORIES:Other Events
END:VEVENT
BEGIN:VEVENT
DTSTART;TZID=America/Toronto:20260423T090000
DTEND;TZID=America/Toronto:20260423T160000
DTSTAMP:20260421T061544
CREATED:20260309T174650Z
LAST-MODIFIED:20260311T023859Z
UID:10000029-1776934800-1776960000@nichi.ca
SUMMARY:NICHI's Annual Membership Engagement Session
DESCRIPTION:
URL:https://nichi.ca/event/nichis-annual-membership-engagement-session/
LOCATION:First Light Centre for Performance and Creativity\, 42 Bannerman Street\, St. John's\, NL\, Canada
CATEGORIES:NICHI Events
END:VEVENT
BEGIN:VEVENT
DTSTART;VALUE=DATE:20260429
DTEND;VALUE=DATE:20260430
DTSTAMP:20260421T061544
CREATED:20260121T144250Z
LAST-MODIFIED:20260121T144250Z
UID:10000026-1777420800-1777507199@nichi.ca
SUMMARY:AHMA 30th Anniversary
DESCRIPTION:British Columbia
URL:https://nichi.ca/event/ahma-30th-anniversary/
CATEGORIES:Member Events
END:VEVENT
BEGIN:VEVENT
DTSTART;VALUE=DATE:20260429
DTEND;VALUE=DATE:20260430
DTSTAMP:20260421T061545
CREATED:20260309T200354Z
LAST-MODIFIED:20260309T200354Z
UID:10000036-1777420800-1777507199@nichi.ca
SUMMARY:AHMA 30th Anniversary
DESCRIPTION:
URL:https://nichi.ca/event/ahma-30th-anniversary-2/
CATEGORIES:Member Events
END:VEVENT
END:VCALENDAR