BEGIN:VCALENDAR
VERSION:2.0
PRODID:-//NICHI - ECPv6.15.17.1//NONSGML v1.0//EN
CALSCALE:GREGORIAN
METHOD:PUBLISH
X-WR-CALNAME:NICHI
X-ORIGINAL-URL:https://nichi.ca
X-WR-CALDESC:Events for NICHI
REFRESH-INTERVAL;VALUE=DURATION:PT1H
X-Robots-Tag:noindex
X-PUBLISHED-TTL:PT1H
BEGIN:VTIMEZONE
TZID:America/Toronto
BEGIN:DAYLIGHT
TZOFFSETFROM:-0500
TZOFFSETTO:-0400
TZNAME:EDT
DTSTART:20240310T070000
END:DAYLIGHT
BEGIN:STANDARD
TZOFFSETFROM:-0400
TZOFFSETTO:-0500
TZNAME:EST
DTSTART:20241103T060000
END:STANDARD
BEGIN:DAYLIGHT
TZOFFSETFROM:-0500
TZOFFSETTO:-0400
TZNAME:EDT
DTSTART:20250309T070000
END:DAYLIGHT
BEGIN:STANDARD
TZOFFSETFROM:-0400
TZOFFSETTO:-0500
TZNAME:EST
DTSTART:20251102T060000
END:STANDARD
BEGIN:DAYLIGHT
TZOFFSETFROM:-0500
TZOFFSETTO:-0400
TZNAME:EDT
DTSTART:20260308T070000
END:DAYLIGHT
BEGIN:STANDARD
TZOFFSETFROM:-0400
TZOFFSETTO:-0500
TZNAME:EST
DTSTART:20261101T060000
END:STANDARD
BEGIN:DAYLIGHT
TZOFFSETFROM:-0500
TZOFFSETTO:-0400
TZNAME:EDT
DTSTART:20270314T070000
END:DAYLIGHT
BEGIN:STANDARD
TZOFFSETFROM:-0400
TZOFFSETTO:-0500
TZNAME:EST
DTSTART:20271107T060000
END:STANDARD
END:VTIMEZONE
BEGIN:VEVENT
DTSTART;VALUE=DATE:20260320
DTEND;VALUE=DATE:20260323
DTSTAMP:20260420T091819
CREATED:20260309T200009Z
LAST-MODIFIED:20260309T200009Z
UID:10000034-1773964800-1774223999@nichi.ca
SUMMARY:CHRA 56th Natational Congress on Housing and Homelessness
DESCRIPTION:
URL:https://nichi.ca/event/chra-56th-natational-congress-on-housing-and-homelessness/
LOCATION:St. John’s\, Newfoundland.
CATEGORIES:Supporter Events
END:VEVENT
BEGIN:VEVENT
DTSTART;VALUE=DATE:20260301
DTEND;VALUE=DATE:20260302
DTSTAMP:20260420T091819
CREATED:20260121T143756Z
LAST-MODIFIED:20260121T143756Z
UID:10000021-1772323200-1772409599@nichi.ca
SUMMARY:2026 Affordable Housing Conference & Strategy Meetings for Indigenous Peoples & Indigenous Communities (AHCIC)
DESCRIPTION:Banff\, Alberta
URL:https://nichi.ca/event/2026-affordable-housing-conference-strategy-meetings-for-indigenous-peoples-indigenous-communities-ahcic/
CATEGORIES:Supporter Events
END:VEVENT
BEGIN:VEVENT
DTSTART;VALUE=DATE:20251117
DTEND;VALUE=DATE:20251120
DTSTAMP:20260420T091819
CREATED:20250527T003455Z
LAST-MODIFIED:20250605T185834Z
UID:10000011-1763337600-1763596799@nichi.ca
SUMMARY:BC Housing Central
DESCRIPTION:
URL:https://nichi.ca/event/bc-housing-central/
LOCATION:BC\, British Columbia\, Canada
CATEGORIES:Supporter Events
END:VEVENT
BEGIN:VEVENT
DTSTART;VALUE=DATE:20251104
DTEND;VALUE=DATE:20251105
DTSTAMP:20260420T091819
CREATED:20250527T003315Z
LAST-MODIFIED:20250605T184825Z
UID:10000010-1762214400-1762300799@nichi.ca
SUMMARY:Housing on the Hill
DESCRIPTION:
URL:https://nichi.ca/event/housing-on-the-hill/
LOCATION:Toronto\, Toronto\, Ontario\, Canada
CATEGORIES:Supporter Events
END:VEVENT
BEGIN:VEVENT
DTSTART;TZID=America/Toronto:20251029T080000
DTEND;TZID=America/Toronto:20251031T170000
DTSTAMP:20260420T091819
CREATED:20250514T004522Z
LAST-MODIFIED:20250605T185948Z
UID:10000002-1761724800-1761930000@nichi.ca
SUMMARY:Canadian Alliance to End Homelessness Conference
DESCRIPTION:
URL:https://nichi.ca/event/canadian-alliance-to-end-homelessness-conference/
LOCATION:Sheraton\, Ottawa\, Ontario\, Canada
CATEGORIES:Supporter Events
END:VEVENT
BEGIN:VEVENT
DTSTART;TZID=America/Toronto:20250612T080000
DTEND;TZID=America/Toronto:20250614T170000
DTSTAMP:20260420T091819
CREATED:20250514T004028Z
LAST-MODIFIED:20250605T190813Z
UID:10000001-1749715200-1749920400@nichi.ca
SUMMARY:CHF Canada's Annual Meeting
DESCRIPTION:
URL:https://nichi.ca/event/chf-canadas-annual-meeting/
CATEGORIES:Supporter Events
END:VEVENT
END:VCALENDAR