BEGIN:VCALENDAR
VERSION:2.0
PRODID:-//NICHI - ECPv6.15.17.1//NONSGML v1.0//EN
CALSCALE:GREGORIAN
METHOD:PUBLISH
X-ORIGINAL-URL:https://nichi.ca
X-WR-CALDESC:Events for NICHI
REFRESH-INTERVAL;VALUE=DURATION:PT1H
X-Robots-Tag:noindex
X-PUBLISHED-TTL:PT1H
BEGIN:VTIMEZONE
TZID:America/Toronto
BEGIN:DAYLIGHT
TZOFFSETFROM:-0500
TZOFFSETTO:-0400
TZNAME:EDT
DTSTART:20250309T070000
END:DAYLIGHT
BEGIN:STANDARD
TZOFFSETFROM:-0400
TZOFFSETTO:-0500
TZNAME:EST
DTSTART:20251102T060000
END:STANDARD
BEGIN:DAYLIGHT
TZOFFSETFROM:-0500
TZOFFSETTO:-0400
TZNAME:EDT
DTSTART:20260308T070000
END:DAYLIGHT
BEGIN:STANDARD
TZOFFSETFROM:-0400
TZOFFSETTO:-0500
TZNAME:EST
DTSTART:20261101T060000
END:STANDARD
BEGIN:DAYLIGHT
TZOFFSETFROM:-0500
TZOFFSETTO:-0400
TZNAME:EDT
DTSTART:20270314T070000
END:DAYLIGHT
BEGIN:STANDARD
TZOFFSETFROM:-0400
TZOFFSETTO:-0500
TZNAME:EST
DTSTART:20271107T060000
END:STANDARD
END:VTIMEZONE
BEGIN:VEVENT
DTSTART;VALUE=DATE:20260520
DTEND;VALUE=DATE:20260522
DTSTAMP:20260423T061845
CREATED:20260121T144344Z
LAST-MODIFIED:20260121T144344Z
UID:10000027-1779235200-1779407999@nichi.ca
SUMMARY:Waasnode Housing Conference - Four Tribal Councils\, One Voice: Advancing Housing Strategies
DESCRIPTION:Casino Rama Resort\, Rama Nation 5899 Rama Rd\, Orillia\, Ontario\, Canada
URL:https://nichi.ca/event/waasnode-housing-conference-four-tribal-councils-one-voice-advancing-housing-strategies/
CATEGORIES:Other Events
END:VEVENT
END:VCALENDAR